﻿BEGIN:VCALENDAR
VERSION:2.0
PRODID:-//Oeamtc St.Poelten - ECPv4.8.1//NONSGML v1.0//EN
CALSCALE:GREGORIAN
METHOD:PUBLISH
X-WR-CALNAME:Oeamtc St.Poelten
X-ORIGINAL-URL:http://www.oeamtczv-st-poelten.at
X-WR-CALDESC:Veranstaltungen für Oeamtc St.Poelten
BEGIN:VEVENT
DTSTART;TZID=Europe/Berlin:20200317T190000
DTEND;TZID=Europe/Berlin:20200317T220000
DTSTAMP:20260421T015709
CREATED:20200129T170241Z
LAST-MODIFIED:20200313T181600Z
UID:848-1584471600-1584482400@www.oeamtczv-st-poelten.at
SUMMARY:Generalversammlung 2020 - Abgesagt
DESCRIPTION:Abgesagt \n
URL:http://www.oeamtczv-st-poelten.at/veranstaltungen/generalversammlung-2020/
LOCATION:HG Graf\, Bahnhofslatz 7\, St.Pölten\, 3100
END:VEVENT
END:VCALENDAR